BEGIN:VCALENDAR
VERSION:2.0
PRODID:-//Mennonite Heritage Village - ECPv6.0.2//NONSGML v1.0//EN
CALSCALE:GREGORIAN
METHOD:PUBLISH
X-WR-CALNAME:Mennonite Heritage Village
X-ORIGINAL-URL:https://mennoniteheritagevillage.com
X-WR-CALDESC:Events for Mennonite Heritage Village
REFRESH-INTERVAL;VALUE=DURATION:PT1H
X-Robots-Tag:noindex
X-PUBLISHED-TTL:PT1H
BEGIN:VTIMEZONE
TZID:America/Winnipeg
BEGIN:DAYLIGHT
TZOFFSETFROM:-0600
TZOFFSETTO:-0500
TZNAME:CDT
DTSTART:20240310T080000
END:DAYLIGHT
BEGIN:STANDARD
TZOFFSETFROM:-0500
TZOFFSETTO:-0600
TZNAME:CST
DTSTART:20241103T070000
END:STANDARD
BEGIN:DAYLIGHT
TZOFFSETFROM:-0600
TZOFFSETTO:-0500
TZNAME:CDT
DTSTART:20250309T080000
END:DAYLIGHT
BEGIN:STANDARD
TZOFFSETFROM:-0500
TZOFFSETTO:-0600
TZNAME:CST
DTSTART:20251102T070000
END:STANDARD
END:VTIMEZONE
BEGIN:VEVENT
DTSTART;TZID=America/Winnipeg:20241230T100000
DTEND;TZID=America/Winnipeg:20250103T160000
DTSTAMP:20260421T014120
CREATED:20241120T172823Z
LAST-MODIFIED:20241120T223320Z
UID:7359-1735552800-1735920000@mennoniteheritagevillage.com
SUMMARY:Winter Day Camp
DESCRIPTION:We hope that you and your family are doing well and finding time to mark the important activities\, rituals\, and events that create wonderful memories for years to come.  At Mennonite Heritage Village\, we are also embracing the winter season and the upcoming holiday break. \nThis year\, we are planning our 4th annual Winter Day Camp. Our education staff will lead a four day winter camp for children ages 6-11. We are planning a mixture of outdoor and indoor activities to explore the museum and the outdoor natural environment. \n \n  \n  \nRegister Online Here\nIf you are having issues with the online registration form\, download the printable form here: MHV-Winter-Day-Camp-Registration-Form-2025.pdf \n  \nWe invite you to sign up for four days of winter fun at MHV. If you have questions\, email shaquelz@mhv.ca or call 204-326-9661. \n 
URL:https://mennoniteheritagevillage.com/event/winter-day-camp/
LOCATION:Mennonite Heritage Village\, 231 PTH 12 N\, Steinbach\, Manitoba\, R5G 1T8\, Canada
CATEGORIES:Children's Camps
ATTACH;FMTTYPE=image/png:https://mennoniteheritagevillage.com/wp-content/uploads/2024/11/2025-MHV-Winter-Day-Camp.png
ORGANIZER;CN="Mennonite%20Heritage%20Village":MAILTO:info@mhv.ca
END:VEVENT
BEGIN:VEVENT
DTSTART;TZID=America/Winnipeg:20240708T100000
DTEND;TZID=America/Winnipeg:20240823T160000
DTSTAMP:20260421T014120
CREATED:20240315T153028Z
LAST-MODIFIED:20240723T213128Z
UID:8387-1720432800-1724428800@mennoniteheritagevillage.com
SUMMARY:Summer Day Camps 2024
DESCRIPTION:We are eagerly preparing for another great summer of Day Camps in July and August. We have had wonderful support for this fun\, experiential program. In 2024\, we are offering 5 weeks of camp.  Our goal is to provide opportunities for more campers to spend time at Mennonite Heritage Village\, learning pioneer skills\, getting to know the farm animals\, and meeting new friends. Camps run daily from 10am-4pm. \nDay Camps: \nJuly 8-12 – Ages 5 to 7 \nJuly 15-19 – Ages 8 to 10 \nJuly 22-26 – Ages 11 to 14 (Apprenticeship camp: Extra opportunities to explore and develop heritage skills) \nAugust 12-16 – Ages 7-11 \nAugust 19-23 – Ages 7-11 \nRegister early to reserve your spot and invite a friend to join your children. \nFive day camp cost is $165.00/camper\, Membership holders cost $148.50/camper. If you prefer to pay in person\, we encourage you to make your payments by June 28\, 2024. \nFor more information\, please email our Education Coodinator: education@mhv.ca \n  \nRegister Now!\n  \nIf you have difficulties with the online form\, please download the following registration form and deliver it to the Mennonite Heritage Village: MHV Summer Day Camps 2024
URL:https://mennoniteheritagevillage.com/event/summer-day-camps/
LOCATION:Mennonite Heritage Village\, 231 PTH 12 N\, Steinbach\, Manitoba\, R5G 1T8\, Canada
CATEGORIES:Children's Camps
ATTACH;FMTTYPE=image/png:https://mennoniteheritagevillage.com/wp-content/uploads/2024/03/2024-Summer-Kids-Camps.png
ORGANIZER;CN="Mennonite%20Heritage%20Village":MAILTO:info@mhv.ca
END:VEVENT
END:VCALENDAR