BEGIN:VCALENDAR
VERSION:2.0
PRODID:-//Mennonite Heritage Village - ECPv6.0.2//NONSGML v1.0//EN
CALSCALE:GREGORIAN
METHOD:PUBLISH
X-WR-CALNAME:Mennonite Heritage Village
X-ORIGINAL-URL:https://mennoniteheritagevillage.com
X-WR-CALDESC:Events for Mennonite Heritage Village
REFRESH-INTERVAL;VALUE=DURATION:PT1H
X-Robots-Tag:noindex
X-PUBLISHED-TTL:PT1H
BEGIN:VTIMEZONE
TZID:America/Winnipeg
BEGIN:DAYLIGHT
TZOFFSETFROM:-0600
TZOFFSETTO:-0500
TZNAME:CDT
DTSTART:20260308T080000
END:DAYLIGHT
BEGIN:STANDARD
TZOFFSETFROM:-0500
TZOFFSETTO:-0600
TZNAME:CST
DTSTART:20261101T070000
END:STANDARD
END:VTIMEZONE
BEGIN:VEVENT
DTSTART;VALUE=DATE:20260706
DTEND;VALUE=DATE:20260822
DTSTAMP:20260421T014106
CREATED:20250310T171351Z
LAST-MODIFIED:20260324T213705Z
UID:9684-1783296000-1787356799@mennoniteheritagevillage.com
SUMMARY:Pioneer Day Camps 2026
DESCRIPTION:Where pioneer fun\, outdoor play\, and memory making collide! Your kids will spend 5 fun-filled days in the Village learning pioneer skills\, getting to know the farm animals\, making new friends\, and much more! Each week features themed days including Pioneer Life in the Village\, Pioneer Life at Home\, Pioneer Career Day\, Pioneer Transportation Day\, and Old-Fashioned Carnival Day. With 5 weeks offered throughout July & August\, we’ve got a time that will suit you. Camps run daily from 10am-4pm. \nFeatured Activities \n\nWork in the Blacksmith Shop\nLearn how to churn butter\nOld-Fashioned Carnival games\n\nDay Camps: \n\nJuly 6 – 10 – Ages 5 to 7\nJuly 13 – 17 – Ages 7 to 11\nJuly 20 – 24 – Ages 11 to 14 (Apprenticeship camp: Extra opportunities to explore and develop heritage skills)\nAugust 10 – 14 – Ages 7 to 11\nAugust 17 – 21 – Ages 7 to 11\n\nRegister early to reserve your spot and invite a friend to join your children. \nFive day camp cost is $175.00/camper\, Membership holders cost $157.50/camper. If you prefer to pay in person\, please have your payment submitted by June 26\, 2026. \nFor more information\, please email our Education Coordinator: education@mhv.ca \n\n\n                \n                        \n                            2026 Summer Pioneer Day Camp Registration\n                            Thank you for registering for the 2026 Summer Pioneer Day Camps at Mennonite Heritage Village. This summer we will be running 5 weeks of camps. You can register multiple children on a single form\, but if you want to register for multiple weeks\, you will need to fill out a new form for each week. \n							"*" indicates required fields \n                        \n        \n        	Step 1 of 5\n        	 \n            \n                20%\n            \n                        \n					 Join us for the Summer Day Camps at MHV during the Summer Holidays. Registration is available for children aged 6-11. If you wish to sign up for multiple weeks\, you will need to submit a separate form for each week. Which week of Day Camp are you registering for?*\n			\n					\n					July 6 - 10 (Ages 5 to 7)\n			\n			\n					\n					July 13 - 17 (Ages 7 to 11)\n			\n			\n					\n					July 20 - 24 (Ages 11 to 14: Apprentice Camp)\n			\n			\n					\n					August 10 - 14 (Ages 7 to 11)\n			\n			\n					\n					August 17 - 21 (Ages 7 to 11)\n			How many campers are you registering today?*1234Camper Name*\n                            \n                            \n                                                    \n                                                    First\n                                                \n                            \n                            \n                                                    \n                                                    Last\n                                                \n                            \n                        Date of Birth*\n                            \n                            MM slash DD slash YYYY\n                        \n                        Camper 2 Name*\n                            \n                            \n                                                    \n                                                    First\n                                                \n                            \n                            \n                                                    \n                                                    Last\n                                                \n                            \n                        Date of Birth*\n                            \n                            MM slash DD slash YYYY\n                        \n                        Camper 3 Name*\n                            \n                            \n                                                    \n                                                    First\n                                                \n                            \n                            \n                                                    \n                                                    Last\n                                                \n                            \n                        Date of Birth*\n                            \n                            MM slash DD slash YYYY\n                        \n                        Camper 4 Name*\n                            \n                            \n                                                    \n                                                    First\n                                                \n                            \n                            \n                                                    \n                                                    Last\n                                                \n                            \n                        Date of Birth*\n                            \n                            MM slash DD slash YYYY\n                        \n                        \n                    \n                    \n                          \n                    \n                \n                \n                    \n                         Parent's Information\nParent/Guardian 1 Parent/Guardian 1*\n                            \n                            \n                                                    \n                                                    First\n                                                \n                            \n                            \n                                                    \n                                                    Last\n                                                \n                            \n                        Relationship to Child(ren)*Email*\n                            \n                        Cell Phone*Home PhoneHome Address*    \n                    \n                         \n                                        \n                                        Street Address\n                                    \n                                    \n                                    City\n                                 \n                                        AlbertaBritish ColumbiaManitobaNew BrunswickNewfoundland and LabradorNorthwest TerritoriesNova ScotiaNunavutOntarioPrince Edward IslandQuebecSaskatchewanYukon\n                                        Province\n                                      \n                                    \n                                    Postal Code\n                                \n                    \n                Where would you like to be reached while your child is at camp?*\n			\n					\n					Cell Phone\n			\n			\n					\n					Home Phone\n			Parent/Guardian 2Name\n                            \n                            \n                                                    \n                                                    First\n                                                \n                            \n                            \n                                                    \n                                                    Last\n                                                \n                            \n                        Relationship to ChildEmail\n                            \n                        Cell PhoneHome Address same as Parent/Guardian 1?\n			\n					\n					Yes\n			\n			\n					\n					No\n			Home PhoneAddress    \n                    \n                         \n                                        \n                                        Street Address\n                                    \n                                    \n                                    City\n                                 \n                                        AlbertaBritish ColumbiaManitobaNew BrunswickNewfoundland and LabradorNorthwest TerritoriesNova ScotiaNunavutOntarioPrince Edward IslandQuebecSaskatchewanYukon\n                                        Province\n                                      \n                                    \n                                    Postal Code\n                                \n                    \n                Contact PermissionsFuture Opportunities\n								\n								Yes\, allow MHV to contact me in regards to future Day Camp opportunities.\n							Contact Permissions\n								\n								MHV can contact me by email\n							\n                    \n                    \n                          \n                    \n                \n                \n                    \n                        Emergency Contacts/Authorized Pickup\nParents cannot be listed as emergency contacts. List the name of at least one person who can be contacted in the event of an emergency or illness if you cannot be reached. Any person listed should be able to assist in contacting you. At least one person listed must be within one hour of the center/home\, able to take responsibility for the child in case the parent/guardian cannot be contacted and should be at least 18 years of age.  Emergency Contact Name*\n                            \n                            \n                                                    \n                                                    First\n                                                \n                            \n                            \n                                                    \n                                                    Last\n                                                \n                            \n                        Contact Phone*Relationship to Child*\n                    \n                    \n                          \n                    \n                \n                \n                    \n                        Medical/Health InformationPhysician/Clinic NamePhoneAddress    \n                    \n                         \n                                        \n                                        Street Address\n                                    \n                                        \n                                        Address Line 2\n                                    \n                                    \n                                    City\n                                 \n                                        AlbertaBritish ColumbiaManitobaNew BrunswickNewfoundland and LabradorNorthwest TerritoriesNova ScotiaNunavutOntarioPrince Edward IslandQuebecSaskatchewanYukon\n                                        Province\n                                      \n                                    \n                                    Postal Code\n                                \n                    \n                Does your child have any food\, medication or environmental allergies?\n			\n					\n					Yes\n			\n			\n					\n					No\n			Which Child(ren) does this apply to?Allergies? Check all that apply*\n								\n								Food\n							\n								\n								Medication\n							\n								\n								Environmental\n							Please list and explain any allergies*Does your child have a special health or medical condition?*\n			\n					\n					Yes\n			\n			\n					\n					No\n			Please Explain*\n                    \n                    \n                          \n                    \n                \n                \n                    \n                        Payment and Statement of UnderstandingRisk/Damage Waiver*\n								\n								I/We acknowledge that we have read the terms of agreement and consent to the same and warrant the information set out below is correct.\n							Parents/guardians\, recognizing that MHV will do its part to provide qualified\, well-trained staff and a safe environment\, agree to assume all risks\, and to release\, indemnify\, and save harmless Mennonite Heritage Village\, its employees (on whose behalf this agreement is made) and representatives\, from any injury\, loss of damage that may occur to the camper or the camper's property. This forms a binding contract once signed. Photo Permissions\n								\n								I/We consent to the photo permissions\n							We\, as parent/guardian grant Mennonite Heritage Village permission to use any photos that may be taken of my child(ren) during the program to use for promotional purposes.Sign Document*Date Signed*\n                            \n                            MM slash DD slash YYYY\n                        \n                        PaymentHow would you like to pay?*\n			\n					\n					Online (via PayPal)\n			\n			\n					\n					Debit/Credit/Cheque/Cash at MHV (payment is due June 28\, 2024)\n			Do you hold an individual or family membership at Mennonite Heritage Village? (You will be asked to show your member card on the first day of camp)*\n			\n					\n					Yes\n			\n			\n					\n					No\n			Total Camper Registration Fees*\n					\n					\n						Price:\n						$ 99.00 CAD\n					\n					\n					\n				Total\n							\n						Payment Method*PayPal CheckoutCredit Card\n                                    MasterCardVisaSupported Credit Cards: MasterCard\, Visa\n                                    \n                                    Card Number\n                                 \n                                            \n                                                \n                                                Expiration Date\n                                            \n                                                \n                                                 \n                                                Security Code\n                                             \n                                        \n                                            \n                                            Cardholder Name
URL:https://mennoniteheritagevillage.com/event/summer-day-camps-2026/
LOCATION:Mennonite Heritage Village\, 231 PTH 12 N\, Steinbach\, Manitoba\, R5G 1T8\, Canada
CATEGORIES:Children's Camps
ATTACH;FMTTYPE=image/png:https://mennoniteheritagevillage.com/wp-content/uploads/2025/03/pioneer-camp.png
END:VEVENT
END:VCALENDAR